BEGIN:VCALENDAR
VERSION:2.0
PRODID:-//Natural Awareness - ECPv6.15.20//NONSGML v1.0//EN
CALSCALE:GREGORIAN
METHOD:PUBLISH
X-WR-CALNAME:Natural Awareness
X-ORIGINAL-URL:https://naturalawarenessguide.com
X-WR-CALDESC:Events for Natural Awareness
REFRESH-INTERVAL;VALUE=DURATION:PT1H
X-Robots-Tag:noindex
X-PUBLISHED-TTL:PT1H
BEGIN:VTIMEZONE
TZID:UTC
BEGIN:STANDARD
TZOFFSETFROM:+0000
TZOFFSETTO:+0000
TZNAME:UTC
DTSTART:20240101T000000
END:STANDARD
END:VTIMEZONE
BEGIN:VEVENT
DTSTART;TZID=UTC:20250315T170000
DTEND;TZID=UTC:20250315T190000
DTSTAMP:20260425T094710
CREATED:20250210T225735Z
LAST-MODIFIED:20250331T201328Z
UID:10000004-1742058000-1742065200@naturalawarenessguide.com
SUMMARY:Walking with the Woods - Hidden Falls
DESCRIPTION:Awaken your senses and connect deeply to nature around and within you. Experience a guided sensory walk based on the Japanese practice of shinrin yoku\, or “forest bathing\,” in one of St. Paul’s lovely urban parks.  \nWalks will occur rain\, snow\, or shine. Please dress for the weather. \nTo read more about what happens during a forest bathing session\, please check out my post explaining the practice\, what happens\, and its many benefits.. \nCost: sliding scale\, $26-35 per person. \nRegister through: St Paul Community Education website \nQuestions? Contact naturalawarenessguide@gmail.com.
URL:https://naturalawarenessguide.com/class/walking-with-the-woods-hidden-falls/
LOCATION:Crosby Farm Regional Park\, 2595 Crosby Farm Rd\, Saint Paul\, MN\, 55116\, United States
CATEGORIES:Shinrin Yoku (Forest Bathing)
ATTACH;FMTTYPE=image/jpeg:https://naturalawarenessguide.com/wp-content/uploads/2025/02/Crop-Winter-Woman-under-Tree-scaled.jpg
ORGANIZER;CN="Kirsten Welge (Natural Awareness LLC)":MAILTO:naturalawarenessguide@gmail.com
END:VEVENT
END:VCALENDAR