BEGIN:VCALENDAR
VERSION:2.0
PRODID:-//Natural Awareness - ECPv6.15.20//NONSGML v1.0//EN
CALSCALE:GREGORIAN
METHOD:PUBLISH
X-ORIGINAL-URL:https://naturalawarenessguide.com
X-WR-CALDESC:Events for Natural Awareness
REFRESH-INTERVAL;VALUE=DURATION:PT1H
X-Robots-Tag:noindex
X-PUBLISHED-TTL:PT1H
BEGIN:VTIMEZONE
TZID:UTC
BEGIN:STANDARD
TZOFFSETFROM:+0000
TZOFFSETTO:+0000
TZNAME:UTC
DTSTART:20240101T000000
END:STANDARD
END:VTIMEZONE
BEGIN:VEVENT
DTSTART;TZID=UTC:20250501T180000
DTEND;TZID=UTC:20250501T200000
DTSTAMP:20260425T053455
CREATED:20250331T205909Z
LAST-MODIFIED:20250331T205945Z
UID:10000007-1746122400-1746129600@naturalawarenessguide.com
SUMMARY:Shinrin-Yoku (Forest Bathing) Class - Wargo Nature Center
DESCRIPTION:Explore the magic of sunset and the full moon through forest bathing! Awaken your senses and connect deeply to nature around and within you. Experience a relaxed\, meditative class of the Japanese public health practice of Shinrin-Yoku\, or “forest bathing\,” with Kirsten Welge. \nThis class will be entirely outdoors. Please dress for the weather and ground conditions. Pre-registration is required through Wargo Nature Center. \nTo read more about what happens during a forest bathing session\, please check out my post explaining the practice\, what happens\, and its many benefits.. \nCost: $35 per person. \nRegister through: St Paul Community Education website \nQuestions? Contact naturalawarenessguide@gmail.com.
URL:https://naturalawarenessguide.com/class/shinrin-yoku-forest-bathing-class-wargo-nature-center/
LOCATION:Wargo Nature Center\, 7701 Main St\, Lino Lakes\, MN\, 55038\, United States
CATEGORIES:Shinrin Yoku (Forest Bathing),Two Hour
ATTACH;FMTTYPE=image/jpeg:https://naturalawarenessguide.com/wp-content/uploads/2025/03/Eastern-Wood-PeeWee-Wargo-Crop-P9134088.jpg
ORGANIZER;CN="Kirsten Welge (Natural Awareness LLC)":MAILTO:naturalawarenessguide@gmail.com
END:VEVENT
BEGIN:VEVENT
DTSTART;TZID=UTC:20250511T100000
DTEND;TZID=UTC:20250511T110000
DTSTAMP:20260425T053455
CREATED:20250210T224755Z
LAST-MODIFIED:20250210T224755Z
UID:10000003-1746957600-1746961200@naturalawarenessguide.com
SUMMARY:Taste of the Trees - Crosby Farm
DESCRIPTION:Experience an hour-long class introducing the gentle Japanese practice of shinrin-yoku\, or “forest bathing\,” in one of St. Paul’s lovely urban parks. Engage with your senses and accept the invitation to connect with yourself\, the land\, and the community. If you’re curious about forest bathing but a longer session feels intimidating\, this class is for you! \nTo read more about what happens during a forest bathing session\, please check out my post explaining the practice\, what happens\, and its many benefits.. \nCost: sliding scale\, $15-19 \nRegister through: St Paul Community Education website \nQuestions? Contact naturalawarenessguide@gmail.com.
URL:https://naturalawarenessguide.com/class/taste-of-the-trees-crosby-farm-2/
LOCATION:Crosby Farm Regional Park\, 2595 Crosby Farm Rd\, Saint Paul\, MN\, 55116\, United States
CATEGORIES:One Hour,Shinrin Yoku (Forest Bathing)
ATTACH;FMTTYPE=image/jpeg:https://naturalawarenessguide.com/wp-content/uploads/2025/02/Crop-Winter-Woman-under-Tree-scaled.jpg
ORGANIZER;CN="Kirsten Welge (Natural Awareness LLC)":MAILTO:naturalawarenessguide@gmail.com
END:VEVENT
END:VCALENDAR